BEGIN:VCALENDAR
VERSION:2.0
PRODID:-//Great Hearts - ECPv6.8.1//NONSGML v1.0//EN
CALSCALE:GREGORIAN
METHOD:PUBLISH
X-WR-CALNAME:Great Hearts
X-ORIGINAL-URL:https://greatheartsonline.org
X-WR-CALDESC:Events for Great Hearts
REFRESH-INTERVAL;VALUE=DURATION:PT1H
X-Robots-Tag:noindex
X-PUBLISHED-TTL:PT1H
BEGIN:VTIMEZONE
TZID:UTC
BEGIN:STANDARD
TZOFFSETFROM:+0000
TZOFFSETTO:+0000
TZNAME:UTC
DTSTART:20220101T000000
END:STANDARD
TZID:UTC
BEGIN:STANDARD
TZOFFSETFROM:+0000
TZOFFSETTO:+0000
TZNAME:UTC
DTSTART:20220101T000000
END:STANDARD
END:VTIMEZONE
BEGIN:VEVENT
DTSTART;VALUE=DATE:20221010
DTEND;VALUE=DATE:20221011
DTSTAMP:20260424T164739
CREATED:20221123T233822Z
LAST-MODIFIED:20230214T023723Z
UID:9577-1665360000-1665446399@greatheartsonline.org
SUMMARY:New Student Ongoing Enrollment for 2023-24 School Year
DESCRIPTION:
URL:https://greatheartsonline.org/event/new-student-open-enrollment-for-2023-24/
CATEGORIES:Arizona,Texas
ATTACH;FMTTYPE=image/png:https://greatheartsonline.org/wp-content/uploads/2022/11/Rolling-Enrollment-Message-1.png
ORGANIZER;CN="Great Hearts Online":MAILTO:info@greatheartsonline.org
END:VEVENT
BEGIN:VEVENT
DTSTART;TZID=UTC:20220930T120000
DTEND;TZID=UTC:20220930T130000
DTSTAMP:20260424T164739
CREATED:20220909T020632Z
LAST-MODIFIED:20220914T213246Z
UID:9171-1664539200-1664542800@greatheartsonline.org
SUMMARY:Texas Virtual Info Session\, Fri 9/30 at noon
DESCRIPTION:There is still time to change your child’s schooling situation. Great Hearts makes it easier to school@home through their virtual academy. Your child will receive the same classical education as the popular brick-and-mortar schools from the safety and comfort of home. Plus now we offer a Flexible Week model for families seeking more freedom with their schedule. \nLearn more about our lower school at our next Virtual Info Session from leadership\, families\, and faculty. Sign up here: https://greatheartsonline.org/info-session/
URL:https://greatheartsonline.org/event/texas-virtual-info-session-fri-9-30-at-noon/
LOCATION:Facebook Live\, United States
CATEGORIES:Texas
ATTACH;FMTTYPE=image/png:https://greatheartsonline.org/wp-content/uploads/2018/08/Sept-Info-Session-graphic.png
END:VEVENT
BEGIN:VEVENT
DTSTART;TZID=UTC:20220928T120000
DTEND;TZID=UTC:20220928T130000
DTSTAMP:20260424T164739
CREATED:20180816T185533Z
LAST-MODIFIED:20220914T213207Z
UID:5986-1664366400-1664370000@greatheartsonline.org
SUMMARY:Arizona Virtual Info Session\, Wed 9/28 at noon
DESCRIPTION:There is still time to change your child’s schooling situation. Great Hearts makes it easier to school@home through their virtual academy. Your child will receive the same classical education as the popular brick-and-mortar schools from the safety and comfort of home. Plus now we offer a Flexible Week model for families seeking more freedom with their schedule. \nLearn more about our lower school at our next Virtual Info Session from leadership\, families\, and faculty. Sign up here: https://greatheartsonline.org/info-session/
URL:https://greatheartsonline.org/event/informational-zoom-session-for-prospective-families/
LOCATION:Facebook Live\, United States
CATEGORIES:Arizona
ATTACH;FMTTYPE=image/png:https://greatheartsonline.org/wp-content/uploads/2018/08/Sept-Info-Session-graphic.png
ORGANIZER;CN="Great Hearts Online":MAILTO:info@greatheartsonline.org
END:VEVENT
BEGIN:VEVENT
DTSTART;TZID=UTC:20220830T120000
DTEND;TZID=UTC:20220830T123000
DTSTAMP:20260424T164739
CREATED:20180816T185159Z
LAST-MODIFIED:20220824T011931Z
UID:5982-1661860800-1661862600@greatheartsonline.org
SUMMARY:Tuesday Talks\, 8/30
DESCRIPTION:Join us as Texas Dean\, Myha Nguyen\, explains the joy of literature celebrations and reading nooks at our virtual academies. Hear how teachers bring the classics to life through fun games\, costumes\, and treats.
URL:https://greatheartsonline.org/event/planning-and-facilitating-effective-meetings/
LOCATION:Facebook Live\, United States
CATEGORIES:Arizona,Texas
ATTACH;FMTTYPE=image/png:https://greatheartsonline.org/wp-content/uploads/2018/08/genericTuesdayTalks.png
ORGANIZER;CN="Great Hearts Online":MAILTO:info@greatheartsonline.org
END:VEVENT
END:VCALENDAR